BEGIN:VCALENDAR
VERSION:2.0
PRODID:-//54.36.91.62//NONSGML kigkonsult.se iCalcreator 2.20//
CALSCALE:GREGORIAN
METHOD:PUBLISH
X-WR-TIMEZONE:Europe/Paris
BEGIN:VEVENT
UID:event40@Assas Cyclisme Évasion
DTSTAMP:20260422T084912Z
CATEGORIES:ACE Route
DESCRIPTION:Viols\, Argelliers\, La Boissière\, Mas d’Alhen\, La Taillade\,
  Cournonterral.\nCatégorie: ACE Route\nLien: http://assas-cyclisme-evasion
 .fr/index.php?option=com_jem&view=event&id=40:viols-argelliers-la-boissier
 e-mas-d-alhen-la-taillade-cournonterral\n
DTSTART;TZID=Europe/Paris:20190113T084500
DTEND;TZID=Europe/Paris:20190113T084500
LOCATION:Hémisphère-Biocoop - Parking Pinède\,Rue de la Pinède\,34830 JACOU
SUMMARY:Viols\, Argelliers\, La Boissière\, Mas d’Alhen\, La Taillade\, Cou
 rnonterral.
URL:http://assas-cyclisme-evasion.fr/index.php?option=com_jem&view=event&id
 =40:viols-argelliers-la-boissiere-mas-d-alhen-la-taillade-cournonterral
END:VEVENT
END:VCALENDAR
