BEGIN:VCALENDAR
VERSION:2.0
PRODID:-//54.36.91.62//NONSGML kigkonsult.se iCalcreator 2.20//
CALSCALE:GREGORIAN
METHOD:PUBLISH
X-WR-TIMEZONE:Europe/Paris
BEGIN:VEVENT
UID:event303@Assas Cyclisme Évasion
DTSTAMP:20260422T084450Z
CATEGORIES:ACE Route
DESCRIPTION:Costières-St Gilles-petite Camargue-Mas des Iscles-Gallician\nC
 atégorie: ACE Route\nLien: http://assas-cyclisme-evasion.fr/index.php?opti
 on=com_jem&view=event&id=303:costieres-st-gilles-petite-camargue-mas-des-i
 scles-gallician\n
DTSTART;TZID=Europe/Paris:20220327T074500
DTEND;TZID=Europe/Paris:20220327T074500
LOCATION:Hémisphère-Biocoop - Parking Pinède\,Rue de la Pinède\,34830 JACOU
SUMMARY:Costières-St Gilles-petite Camargue-Mas des Iscles-Gallician
URL:http://assas-cyclisme-evasion.fr/index.php?option=com_jem&view=event&id
 =303:costieres-st-gilles-petite-camargue-mas-des-iscles-gallician
END:VEVENT
END:VCALENDAR
