BEGIN:VCALENDAR
VERSION:2.0
PRODID:-//54.36.91.62//NONSGML kigkonsult.se iCalcreator 2.20//
CALSCALE:GREGORIAN
METHOD:PUBLISH
X-WR-TIMEZONE:Europe/Paris
BEGIN:VEVENT
UID:event301@Assas Cyclisme Évasion
DTSTAMP:20260420T122459Z
CATEGORIES:ACE Route
DESCRIPTION:Ales-Les Puechs-Mas Soubeyran-Musée du Désert-Anduze \nCatégori
 e: ACE Route\nLien: http://assas-cyclisme-evasion.fr/index.php?option=com_
 jem&view=event&id=301:ales-les-puechs-mas-soubeyran-musee-du-desert-anduze
 \n
DTSTART;TZID=Europe/Paris:20220319T073000
DTEND;TZID=Europe/Paris:20220319T073000
LOCATION:Hémisphère-Biocoop - Parking Pinède\,Rue de la Pinède\,34830 JACOU
SUMMARY:Ales-Les Puechs-Mas Soubeyran-Musée du Désert-Anduze 
URL:http://assas-cyclisme-evasion.fr/index.php?option=com_jem&view=event&id
 =301:ales-les-puechs-mas-soubeyran-musee-du-desert-anduze
END:VEVENT
END:VCALENDAR
